BEGIN:VCALENDAR
VERSION:2.0
PRODID:-//Borussen Express Coesfeld - ECPv6.15.20//NONSGML v1.0//EN
CALSCALE:GREGORIAN
METHOD:PUBLISH
X-ORIGINAL-URL:https://borussen-express-coesfeld.de
X-WR-CALDESC:Veranstaltungen für Borussen Express Coesfeld
REFRESH-INTERVAL;VALUE=DURATION:PT1H
X-Robots-Tag:noindex
X-PUBLISHED-TTL:PT1H
BEGIN:VTIMEZONE
TZID:Europe/Berlin
BEGIN:DAYLIGHT
TZOFFSETFROM:+0100
TZOFFSETTO:+0200
TZNAME:CEST
DTSTART:20250330T010000
END:DAYLIGHT
BEGIN:STANDARD
TZOFFSETFROM:+0200
TZOFFSETTO:+0100
TZNAME:CET
DTSTART:20251026T010000
END:STANDARD
BEGIN:DAYLIGHT
TZOFFSETFROM:+0100
TZOFFSETTO:+0200
TZNAME:CEST
DTSTART:20260329T010000
END:DAYLIGHT
BEGIN:STANDARD
TZOFFSETFROM:+0200
TZOFFSETTO:+0100
TZNAME:CET
DTSTART:20261025T010000
END:STANDARD
BEGIN:DAYLIGHT
TZOFFSETFROM:+0100
TZOFFSETTO:+0200
TZNAME:CEST
DTSTART:20270328T010000
END:DAYLIGHT
BEGIN:STANDARD
TZOFFSETFROM:+0200
TZOFFSETTO:+0100
TZNAME:CET
DTSTART:20271031T010000
END:STANDARD
BEGIN:DAYLIGHT
TZOFFSETFROM:+0100
TZOFFSETTO:+0200
TZNAME:CEST
DTSTART:20280326T010000
END:DAYLIGHT
BEGIN:STANDARD
TZOFFSETFROM:+0200
TZOFFSETTO:+0100
TZNAME:CET
DTSTART:20281029T010000
END:STANDARD
END:VTIMEZONE
BEGIN:VEVENT
DTSTART;TZID=Europe/Berlin:20260419T193000
DTEND;TZID=Europe/Berlin:20270207T211500
DTSTAMP:20260421T122333
CREATED:20250628T115246Z
LAST-MODIFIED:20260419T080851Z
UID:770-1776627000-1802034900@borussen-express-coesfeld.de
SUMMARY:Borussia : Mainz
DESCRIPTION:30. Spieltag Bundesliga \n Borussia : Mainz  \nFür dieses Spiel haben wir (Stand 19.04.2026):  \n4 Steher Nord für je EUR 17\,– sowie \nDerzeit haben wir keine freien Busplätze. \nAnfragen bitte per Mail an: borussen-express-coesfeld@gmx.de \n 
URL:https://borussen-express-coesfeld.de/veranstaltungen/borussia-mainz/
LOCATION:Borussia Park\, Hennes Weisweiler Allee 1\, Mönchengladbach\, NRW\, 41179\, Germany
CATEGORIES:Bundesliga
ORGANIZER;CN="Vorstand Borussen Express":MAILTO:borussen-express-coesfeld@gmx.de
END:VEVENT
BEGIN:VEVENT
DTSTART;TZID=Europe/Berlin:20260503T173000
DTEND;TZID=Europe/Berlin:20260503T191500
DTSTAMP:20260421T122333
CREATED:20250628T115517Z
LAST-MODIFIED:20260420T155914Z
UID:772-1777829400-1777835700@borussen-express-coesfeld.de
SUMMARY:Borussia : BVB
DESCRIPTION:32. Spieltag Bundesliga \n Borussia : BVB  \nFür dieses Spiel haben wir (Stand 20.04.2026):  \n3  Sitzer Nord Oberrang für je EUR 61\,– und \n4 freie Busplätze. \nAnfragen bitte per Mail an: borussen-express-coesfeld@gmx.de \n 
URL:https://borussen-express-coesfeld.de/veranstaltungen/borussia-bvb/
LOCATION:Borussia Park\, Hennes Weisweiler Allee 1\, Mönchengladbach\, NRW\, 41179\, Germany
CATEGORIES:Bundesliga
ORGANIZER;CN="Vorstand Borussen Express":MAILTO:borussen-express-coesfeld@gmx.de
END:VEVENT
BEGIN:VEVENT
DTSTART;TZID=Europe/Berlin:20260509T153000
DTEND;TZID=Europe/Berlin:20260509T171500
DTSTAMP:20260421T122333
CREATED:20250628T112944Z
LAST-MODIFIED:20250628T112944Z
UID:756-1778340600-1778346900@borussen-express-coesfeld.de
SUMMARY:Augsburg : Borussia
DESCRIPTION:33. Spieltag Bundesliga \n Augsburg : Borussia   ** \n** der genaue Termin wurde noch nicht festgelegt \nWir nehmen ab sofort Eure Bestellungen für alle Auswärtsspiele der Saison entgegen. Bitte beachtet dabei die Hinweise zur Verteilung von Auswärtskarten.  \nAnfragen bitte per Mail an: borussen-express-coesfeld@gmx.de
URL:https://borussen-express-coesfeld.de/veranstaltungen/augsburg-borussia/
LOCATION:WWK Arena\, Bürgermeister-Ulrich-Str. 90\, Augsburg\, 86199
CATEGORIES:Bundesliga
END:VEVENT
BEGIN:VEVENT
DTSTART;TZID=Europe/Berlin:20260516T153000
DTEND;TZID=Europe/Berlin:20260516T171500
DTSTAMP:20260421T122333
CREATED:20250628T115732Z
LAST-MODIFIED:20260420T102453Z
UID:774-1778945400-1778951700@borussen-express-coesfeld.de
SUMMARY:Borussia : Hoffenheim
DESCRIPTION:34. Spieltag Bundesliga \n Borussia : Hoffenheim  \nFür dieses Spiel haben wir (Stand 20.04.2026):  \n1 Sitzer Nord Oberrang für EUR 41\,– und \n3 freie Busplätze. \nAnfragen bitte per Mail an: borussen-express-coesfeld@gmx.de \n 
URL:https://borussen-express-coesfeld.de/veranstaltungen/borussia-hoffenheim-2/
LOCATION:Borussia Park\, Hennes Weisweiler Allee 1\, Mönchengladbach\, NRW\, 41179\, Germany
CATEGORIES:Bundesliga
ORGANIZER;CN="Vorstand Borussen Express":MAILTO:borussen-express-coesfeld@gmx.de
END:VEVENT
END:VCALENDAR