BEGIN:VCALENDAR
VERSION:2.0
PRODID:-//Borussen Express Coesfeld - ECPv6.15.20//NONSGML v1.0//EN
CALSCALE:GREGORIAN
METHOD:PUBLISH
X-WR-CALNAME:Borussen Express Coesfeld
X-ORIGINAL-URL:https://borussen-express-coesfeld.de
X-WR-CALDESC:Veranstaltungen für Borussen Express Coesfeld
REFRESH-INTERVAL;VALUE=DURATION:PT1H
X-Robots-Tag:noindex
X-PUBLISHED-TTL:PT1H
BEGIN:VTIMEZONE
TZID:Europe/Berlin
BEGIN:DAYLIGHT
TZOFFSETFROM:+0100
TZOFFSETTO:+0200
TZNAME:CEST
DTSTART:20250330T010000
END:DAYLIGHT
BEGIN:STANDARD
TZOFFSETFROM:+0200
TZOFFSETTO:+0100
TZNAME:CET
DTSTART:20251026T010000
END:STANDARD
BEGIN:DAYLIGHT
TZOFFSETFROM:+0100
TZOFFSETTO:+0200
TZNAME:CEST
DTSTART:20260329T010000
END:DAYLIGHT
BEGIN:STANDARD
TZOFFSETFROM:+0200
TZOFFSETTO:+0100
TZNAME:CET
DTSTART:20261025T010000
END:STANDARD
BEGIN:DAYLIGHT
TZOFFSETFROM:+0100
TZOFFSETTO:+0200
TZNAME:CEST
DTSTART:20270328T010000
END:DAYLIGHT
BEGIN:STANDARD
TZOFFSETFROM:+0200
TZOFFSETTO:+0100
TZNAME:CET
DTSTART:20271031T010000
END:STANDARD
END:VTIMEZONE
BEGIN:VEVENT
DTSTART;TZID=Europe/Berlin:20260207T183000
DTEND;TZID=Europe/Berlin:20260207T201500
DTSTAMP:20260421T155216
CREATED:20250628T113911Z
LAST-MODIFIED:20260205T082700Z
UID:762-1770489000-1770495300@borussen-express-coesfeld.de
SUMMARY:Borussia : Leverkusen
DESCRIPTION:21. Spieltag Bundesliga \n  Borussia : Leverkusen  \nFür dieses Spiel haben wir (Stand 05.02.2026):  \n4  Sitzer Nord Oberrang (nebeneinander) für je EUR 41\,– und \n13  freie Busplätze. \nAnfragen bitte per Mail an: borussen-express-coesfeld@gmx.de \n 
URL:https://borussen-express-coesfeld.de/veranstaltungen/borussia-leverkusen/
LOCATION:Borussia Park\, Hennes Weisweiler Allee 1\, Mönchengladbach\, NRW\, 41179\, Germany
CATEGORIES:Bundesliga
ORGANIZER;CN="Vorstand Borussen Express":MAILTO:borussen-express-coesfeld@gmx.de
END:VEVENT
BEGIN:VEVENT
DTSTART;TZID=Europe/Berlin:20260214T153000
DTEND;TZID=Europe/Berlin:20260214T171500
DTSTAMP:20260421T155216
CREATED:20250628T111106Z
LAST-MODIFIED:20260122T132557Z
UID:740-1771083000-1771089300@borussen-express-coesfeld.de
SUMMARY:Frankfurt : Borussia
DESCRIPTION:22. Spieltag Bundesliga \n Frankfurt : Borussia  \n  \nFür dieses Spiel haben wir keine freien Karten. \nBitte beachtet dabei die Hinweise zur Verteilung von Auswärtskarten.  \nAnfragen bitte per Mail an: borussen-express-coesfeld@gmx.de
URL:https://borussen-express-coesfeld.de/veranstaltungen/frankfurt-borussia/
LOCATION:Deutsche Bank Park\, Mörfelder Landstr. 362\, Frankfurt\, 60528
CATEGORIES:Bundesliga
END:VEVENT
BEGIN:VEVENT
DTSTART;TZID=Europe/Berlin:20260221T140000
DTEND;TZID=Europe/Berlin:20260221T223000
DTSTAMP:20260421T155216
CREATED:20260119T132731Z
LAST-MODIFIED:20260119T132942Z
UID:1074-1771682400-1771713000@borussen-express-coesfeld.de
SUMMARY:Wintergang
DESCRIPTION:Liebe Mitglieder\, \n\n\nam 21.02.26 möchten wir wieder unseren Wintergang machen.\nWir werden uns gegen 14:00 Uhr am Haus Fieling treffen und uns dann mit Bollerwagen\, flüssiger Nahrung\, guter Musik und Laune auf eine kleine Runde rund um Coesfeld begeben. Nach Rückkehr am Haus Frieling wird es ein Grünkohl Gericht geben.\nDer Fanclub übernimmt die Getränke für unterwegs\, das Essen sowie zwei Runden im Haus Frieling.\nWir hoffen\, Ihr habt wieder Spaß an der Veranstaltung und meldet Euch zahlreich per Mail an – zur besseren Planung bitte spätestens zum 15.02.26.\n\nWir freuen uns auf Euch.\n\n\nEuer Vorstand
URL:https://borussen-express-coesfeld.de/veranstaltungen/wintergang-2/
LOCATION:Haus Frieling\, Rekener Str. 38\, Coesfeld\, 48653
CATEGORIES:Vereinsveranstaltung
ORGANIZER;CN="Vorstand Borussen Express":MAILTO:borussen-express-coesfeld@gmx.de
END:VEVENT
BEGIN:VEVENT
DTSTART;TZID=Europe/Berlin:20260221T153000
DTEND;TZID=Europe/Berlin:20260221T171500
DTSTAMP:20260421T155216
CREATED:20250628T111436Z
LAST-MODIFIED:20250628T111436Z
UID:743-1771687800-1771694100@borussen-express-coesfeld.de
SUMMARY:Freiburg : Borussia
DESCRIPTION:23. Spieltag Bundesliga \n  Freiburg : Borussia   ** \n** der genaue Termin wurde noch nicht festgelegt \nWir nehmen ab sofort Eure Bestellungen für alle Auswärtsspiele der Saison entgegen. Bitte beachtet dabei die Hinweise zur Verteilung von Auswärtskarten.  \nAnfragen bitte per Mail an: borussen-express-coesfeld@gmx.de
URL:https://borussen-express-coesfeld.de/veranstaltungen/freiburg-borussia/
LOCATION:Europa-Park Stadion\, Achim-Stocker-Str. 1\, Freiburg\, 79108
CATEGORIES:Bundesliga
END:VEVENT
BEGIN:VEVENT
DTSTART;TZID=Europe/Berlin:20260228T153000
DTEND;TZID=Europe/Berlin:20260228T171500
DTSTAMP:20260421T155216
CREATED:20250628T114154Z
LAST-MODIFIED:20260217T093248Z
UID:764-1772292600-1772298900@borussen-express-coesfeld.de
SUMMARY:Borussia : Union
DESCRIPTION:24.Spieltag Bundesliga \n Borussia : Union  \nFür dieses Spiel haben wir (Stand 17.02.2026):  \n5 Steher Nord für je EUR 17\,– \nDerzeit haben wir keine freien Busplätze. \nAnfragen bitte per Mail an: borussen-express-coesfeld@gmx.de \n 
URL:https://borussen-express-coesfeld.de/veranstaltungen/borussia-union/
LOCATION:Borussia Park\, Hennes Weisweiler Allee 1\, Mönchengladbach\, NRW\, 41179\, Germany
CATEGORIES:Bundesliga
ORGANIZER;CN="Vorstand Borussen Express":MAILTO:borussen-express-coesfeld@gmx.de
END:VEVENT
END:VCALENDAR