BEGIN:VCALENDAR
VERSION:2.0
PRODID:-//Borussen Express Coesfeld - ECPv6.15.20//NONSGML v1.0//EN
CALSCALE:GREGORIAN
METHOD:PUBLISH
X-WR-CALNAME:Borussen Express Coesfeld
X-ORIGINAL-URL:https://borussen-express-coesfeld.de
X-WR-CALDESC:Veranstaltungen für Borussen Express Coesfeld
REFRESH-INTERVAL;VALUE=DURATION:PT1H
X-Robots-Tag:noindex
X-PUBLISHED-TTL:PT1H
BEGIN:VTIMEZONE
TZID:Europe/Berlin
BEGIN:DAYLIGHT
TZOFFSETFROM:+0100
TZOFFSETTO:+0200
TZNAME:CEST
DTSTART:20250330T010000
END:DAYLIGHT
BEGIN:STANDARD
TZOFFSETFROM:+0200
TZOFFSETTO:+0100
TZNAME:CET
DTSTART:20251026T010000
END:STANDARD
BEGIN:DAYLIGHT
TZOFFSETFROM:+0100
TZOFFSETTO:+0200
TZNAME:CEST
DTSTART:20260329T010000
END:DAYLIGHT
BEGIN:STANDARD
TZOFFSETFROM:+0200
TZOFFSETTO:+0100
TZNAME:CET
DTSTART:20261025T010000
END:STANDARD
BEGIN:DAYLIGHT
TZOFFSETFROM:+0100
TZOFFSETTO:+0200
TZNAME:CEST
DTSTART:20270328T010000
END:DAYLIGHT
BEGIN:STANDARD
TZOFFSETFROM:+0200
TZOFFSETTO:+0100
TZNAME:CET
DTSTART:20271031T010000
END:STANDARD
END:VTIMEZONE
BEGIN:VEVENT
DTSTART;TZID=Europe/Berlin:20260411T153000
DTEND;TZID=Europe/Berlin:20260411T171500
DTSTAMP:20260419T141335
CREATED:20250628T112332Z
LAST-MODIFIED:20260307T191409Z
UID:751-1775921400-1775927700@borussen-express-coesfeld.de
SUMMARY:Leipzig : Borussia
DESCRIPTION:29. Spieltag Bundesliga \n Leipzig : Borussia  \nLiebe Mitglieder\, \n\n für den 29. Spieltag\, das ist das Wochenende am 11.04.2026 planen wir unsere Übernachtungstour nach Leipzig.\n\nDa das Spiel voraussichtlich erst Mitte bis Ende März konkret terminiert wird\, müssen wir bis dahin mit verschiedenen Möglichkeiten planen:\n\n1) Freitagsabend Spiel:\nWir würden am Freitag Morgen voraussichtlich gegen 08:00 abfahren. Nach dem Bezug der Zimmer im Hotel können wir uns in Leipzig noch stärken und uns dann auf den Weg zum Stadion machen. Nach dem Spiel werden wir noch Tische in einem Leipziger Lokal reservieren. Die Rückfahrt erfolgt dann am Samstag Morgen nach dem Frühstück\, so dass wir am frühen Nachmittag wieder in Coesfeld sind.\n\n2) Samstag Spiel:\nÄhnlich wie am Freitag würden wir Samstag Morgen abfahren und nach Ankunft im Hotel die Zimmer beziehen. Sollte das Spiel für 15:30 Uhr angesetzt werden\, würden wir uns direkt auf dem Weg zum Stadion machen und uns unterwegs oder am Stadion verpflegen. Nach dem Spiel geht es dann in ein reserviertes Lokal.\nSollte das Spiel um 18:30 Uhr angesetzt werden\, würden wir zunächst in ein reservierte Lokal gehen\, um uns dort zu stärken. Danach würden wir uns rechtzeitig auf dem Weg zum Stadion machen.\n\n3) Sonntag Spiel:\nBei dieser Terminierung würde die Anreise ebenfalls am Samstag Morgen erfolgen. Nach Ankunft in Leipzig und Bezug der Hotelzimmer haben wir dann genug Zeit\, um vor Ort ein paar gesellige Stunden zu verbringen. Auch hier werden wir einen Tisch reservieren. Am nächsten Morgen können wir nach einem ausgiebigen Frühstück im Hotel noch eine Lokalität in Leipzig suchen und uns dann rechtzeitg auf den Weg zum Stadion machen. Die Rückreise erfolgt dann nach Absprache ca. 30 – 60 Minuten nach Spielende erfolgen. Bitte beachtet\, dass auch eine Terminierung um 17:30 Uhr möglich wäre.\n\nDas Lokal werden wir erst nach fester Terminierung des Spiel aussuchen.\n\nDie Gesamtkosten für die Tour belaufen sich auf EUR 195\,– pro Person. Fanclubmitglieder erhalten einen Zuschuss von EUR 25\,–\, so dass hier EUR 170\,– fällig werden. Darin enthalten ist die Fahrt in einem modernen Reisebus\, Getränke und Verpflegung im Bus\, die Übernachtung im Hotel sowie die Eintritttskarte zum Stadion.\nWir haben eine ausreichende Anzahl an Zimmern im Hotel „Motel One Leipzig-Post“ reserviert. Die Kosten für das Frühstück in Höhe von EUR 17\,90 sind von jedem selbst zu tragen. Das Frühstück muss beim Check Inn bestellt werden. Als Verpflegung im Bus wird es neben den üblichen Getränken auf dem Hinweg ein ausgiebiges Frühstück geben. Für den Rückweg nach dem Spiel sollte sich jeder selbst mit Essen\, z.b. am Stadion versorgen.\n\nWir hoffen\, die Tour interessiert Euch und wir freuen uns auf Eure Anmeldungen. Bitte gebt dabei an\, für welche Möglichkeiten\, also 1\, 2\, oder 3 Ihr Euch anmeldet.\n\nWir freuen uns auf eine schöen Tour.\n\n\nEuer Vorstand
URL:https://borussen-express-coesfeld.de/veranstaltungen/leipzig-borussia/
LOCATION:RedBull Arena\, Am Sportforum 3\, Leipzig\, 04105
CATEGORIES:Bundesliga
END:VEVENT
END:VCALENDAR