BEGIN:VCALENDAR
VERSION:2.0
PRODID:-//Borussen Express Coesfeld - ECPv6.15.20//NONSGML v1.0//EN
CALSCALE:GREGORIAN
METHOD:PUBLISH
X-ORIGINAL-URL:https://borussen-express-coesfeld.de
X-WR-CALDESC:Veranstaltungen für Borussen Express Coesfeld
REFRESH-INTERVAL;VALUE=DURATION:PT1H
X-Robots-Tag:noindex
X-PUBLISHED-TTL:PT1H
BEGIN:VTIMEZONE
TZID:Europe/Berlin
BEGIN:DAYLIGHT
TZOFFSETFROM:+0100
TZOFFSETTO:+0200
TZNAME:CEST
DTSTART:20250330T010000
END:DAYLIGHT
BEGIN:STANDARD
TZOFFSETFROM:+0200
TZOFFSETTO:+0100
TZNAME:CET
DTSTART:20251026T010000
END:STANDARD
BEGIN:DAYLIGHT
TZOFFSETFROM:+0100
TZOFFSETTO:+0200
TZNAME:CEST
DTSTART:20260329T010000
END:DAYLIGHT
BEGIN:STANDARD
TZOFFSETFROM:+0200
TZOFFSETTO:+0100
TZNAME:CET
DTSTART:20261025T010000
END:STANDARD
BEGIN:DAYLIGHT
TZOFFSETFROM:+0100
TZOFFSETTO:+0200
TZNAME:CEST
DTSTART:20270328T010000
END:DAYLIGHT
BEGIN:STANDARD
TZOFFSETFROM:+0200
TZOFFSETTO:+0100
TZNAME:CET
DTSTART:20271031T010000
END:STANDARD
END:VTIMEZONE
BEGIN:VEVENT
DTSTART;TZID=Europe/Berlin:20260131T153000
DTEND;TZID=Europe/Berlin:20260131T171500
DTSTAMP:20260421T173943
CREATED:20250628T110742Z
LAST-MODIFIED:20250628T110742Z
UID:738-1769873400-1769879700@borussen-express-coesfeld.de
SUMMARY:Bremen : Borussia
DESCRIPTION:20. Spieltag Bundesliga \n Bremen : Borussia   ** \n** der genaue Termin wurde noch nicht festgelegt \nWir nehmen ab sofort Eure Bestellungen für alle Auswärtsspiele der Saison entgegen. Bitte beachtet dabei die Hinweise zur Verteilung von Auswärtskarten.  \nAnfragen bitte per Mail an: borussen-express-coesfeld@gmx.de
URL:https://borussen-express-coesfeld.de/veranstaltungen/bremen-borussia-2/
LOCATION:Weser Stadion\, Franz-Böhmert-Str. 1\, Bremen\, 28205
CATEGORIES:Bundesliga
END:VEVENT
END:VCALENDAR