BEGIN:VCALENDAR
VERSION:2.0
PRODID:-//Borussen Express Coesfeld - ECPv6.15.20//NONSGML v1.0//EN
CALSCALE:GREGORIAN
METHOD:PUBLISH
X-WR-CALNAME:Borussen Express Coesfeld
X-ORIGINAL-URL:https://borussen-express-coesfeld.de
X-WR-CALDESC:Veranstaltungen für Borussen Express Coesfeld
REFRESH-INTERVAL;VALUE=DURATION:PT1H
X-Robots-Tag:noindex
X-PUBLISHED-TTL:PT1H
BEGIN:VTIMEZONE
TZID:Europe/Berlin
BEGIN:DAYLIGHT
TZOFFSETFROM:+0100
TZOFFSETTO:+0200
TZNAME:CEST
DTSTART:20250330T010000
END:DAYLIGHT
BEGIN:STANDARD
TZOFFSETFROM:+0200
TZOFFSETTO:+0100
TZNAME:CET
DTSTART:20251026T010000
END:STANDARD
BEGIN:DAYLIGHT
TZOFFSETFROM:+0100
TZOFFSETTO:+0200
TZNAME:CEST
DTSTART:20260329T010000
END:DAYLIGHT
BEGIN:STANDARD
TZOFFSETFROM:+0200
TZOFFSETTO:+0100
TZNAME:CET
DTSTART:20261025T010000
END:STANDARD
BEGIN:DAYLIGHT
TZOFFSETFROM:+0100
TZOFFSETTO:+0200
TZNAME:CEST
DTSTART:20270328T010000
END:DAYLIGHT
BEGIN:STANDARD
TZOFFSETFROM:+0200
TZOFFSETTO:+0100
TZNAME:CET
DTSTART:20271031T010000
END:STANDARD
END:VTIMEZONE
BEGIN:VEVENT
DTSTART;TZID=Europe/Berlin:20260125T153000
DTEND;TZID=Europe/Berlin:20260125T171500
DTSTAMP:20260421T193335
CREATED:20250628T113451Z
LAST-MODIFIED:20260122T132829Z
UID:759-1769355000-1769361300@borussen-express-coesfeld.de
SUMMARY:Borussia : Stuttgart
DESCRIPTION:19. Spieltag Bundesliga \n Borussia : Stuttgart  \nFür dieses Spiel haben wir (Stand 22.01.2026):  \n2 Steher Nord für EUR 17\,– sowie \n10 freie Busplätze. \nAnfragen bitte per Mail an: borussen-express-coesfeld@gmx.de \n 
URL:https://borussen-express-coesfeld.de/veranstaltungen/borussia-stuttgart/
LOCATION:Borussia Park\, Hennes Weisweiler Allee 1\, Mönchengladbach\, NRW\, 41179\, Germany
CATEGORIES:Bundesliga
ORGANIZER;CN="Vorstand Borussen Express":MAILTO:borussen-express-coesfeld@gmx.de
END:VEVENT
END:VCALENDAR