BEGIN:VCALENDAR
VERSION:2.0
PRODID:-//Borussen Express Coesfeld - ECPv6.15.20//NONSGML v1.0//EN
CALSCALE:GREGORIAN
METHOD:PUBLISH
X-ORIGINAL-URL:https://borussen-express-coesfeld.de
X-WR-CALDESC:Veranstaltungen für Borussen Express Coesfeld
REFRESH-INTERVAL;VALUE=DURATION:PT1H
X-Robots-Tag:noindex
X-PUBLISHED-TTL:PT1H
BEGIN:VTIMEZONE
TZID:Europe/Berlin
BEGIN:DAYLIGHT
TZOFFSETFROM:+0100
TZOFFSETTO:+0200
TZNAME:CEST
DTSTART:20250330T010000
END:DAYLIGHT
BEGIN:STANDARD
TZOFFSETFROM:+0200
TZOFFSETTO:+0100
TZNAME:CET
DTSTART:20251026T010000
END:STANDARD
BEGIN:DAYLIGHT
TZOFFSETFROM:+0100
TZOFFSETTO:+0200
TZNAME:CEST
DTSTART:20260329T010000
END:DAYLIGHT
BEGIN:STANDARD
TZOFFSETFROM:+0200
TZOFFSETTO:+0100
TZNAME:CET
DTSTART:20261025T010000
END:STANDARD
BEGIN:DAYLIGHT
TZOFFSETFROM:+0100
TZOFFSETTO:+0200
TZNAME:CEST
DTSTART:20270328T010000
END:DAYLIGHT
BEGIN:STANDARD
TZOFFSETFROM:+0200
TZOFFSETTO:+0100
TZNAME:CET
DTSTART:20271031T010000
END:STANDARD
END:VTIMEZONE
BEGIN:VEVENT
DTSTART;TZID=Europe/Berlin:20260117T153000
DTEND;TZID=Europe/Berlin:20260117T171500
DTSTAMP:20260421T193233
CREATED:20250628T110457Z
LAST-MODIFIED:20251106T144028Z
UID:735-1768663800-1768670100@borussen-express-coesfeld.de
SUMMARY:HSV : Borussia
DESCRIPTION:18. Spieltag Bundesliga \n HSV : Borussia  \nZu diesem Spiel werden wir eine Tagestour mit dem Bus machen. Einzelheiten hierzu haben alle Mitglieder bereits per Mail erhalten. \nDen genauen Ablauf der Fahrt werden wir allen Teilnehmern rechtzeitig mitteilen. \nDie Tour ist aktuell (Stand 06.11.25) ausgebucht\, daher nehmen wir keine Anmeldungen mehr entgegen.
URL:https://borussen-express-coesfeld.de/veranstaltungen/hsv-borussia/
LOCATION:Volksparkstadion\, Uwe-Seeler-Allee 9\, Hamburg\, 22525
CATEGORIES:Bundesliga
END:VEVENT
END:VCALENDAR